BEGIN:VCALENDAR
VERSION:2.0
PRODID:-//ChamberMaster//Event Calendar 2.0//EN
METHOD:PUBLISH
X-PUBLISHED-TTL:P3D
REFRESH-INTERVAL:P3D
CALSCALE:GREGORIAN
BEGIN:VEVENT
DTSTART:20230207T190000Z
DTEND:20230208T020000Z
X-MICROSOFT-CDO-ALLDAYEVENT:FALSE
SUMMARY:2023 Chamber Legislative Advocacy Day
DESCRIPTION:REGISTRATION CLOSED\n\nThe State's Legislators can have a dramatic impact on businesses' ability to succeed.  The Chamber's advocacy program gives business owners and managers the opportunity for a face-to-face discourse with them at Legislative Day on matters important to business.\n\n\n\nThe opening session we will start with the overview of the legislative objectives and the state of the current 2023 Legislative Session\, we will start with a box lunch at the Boeing House which is across the street from the Senate Offices   just down the street from the Capitol. You will receive talking points and training on meeting with legislators\, and you will have time to practice what you will say when you meet with your representatives in their offices that afternoon.\n\nAfter the opening session ends\, you will join other leaders on the hill to meet with your legislators. Once you register\, we will make legislative appointments for you. You just need to show up!\n\n\n\n \n\nAgenda Overview:\n\n11:30am-12pm--- 2023 Tacoma Pierce County Chamber overview and session specific topic discussion.\n\n\n\n12-1pm Lunch\n\n1:30pm -5:30pm --- Legislature meetings on the Hill in breakout groups.\n\n5:30pm --- Legislative reception at Boeing House.\n\n Have questions? Please contact David Schroedel
X-ALT-DESC;FMTTYPE=text/html:<p><br />\n<span style="color:#FF0000\;"><strong>REGISTRATION CLOSED</strong></span><br />\n<span style="color:#696969\;">The State&rsquo\;s Legislators can have a dramatic impact on businesses&rsquo\; ability to succeed.&nbsp\; The Chamber&rsquo\;s advocacy program gives business owners and managers the opportunity for a face-to-face discourse with them at Legislative Day on matters important to business.</span><br />\n<br />\n<span style="color: rgb(105\, 105\, 105)\;">The opening session we will start with the overview of the legislative objectives and the state of the current 2023&nbsp\;Legislative Session\, we will start with a box lunch at the Boeing House which is across the street from the Senate Offices &ndash\; just down the street from the Capitol. You will receive talking points and training on meeting with legislators\, and you will have time to practice what you will say when you meet with your representatives in their offices that afternoon.</span></p>\n\n<p class="xmsonormal"><span style="color: rgb(105\, 105\, 105)\;">After the opening session ends\, you will join other leaders on the hill to meet with your legislators. Once you register\, we will make legislative appointments for you. You just need to show up!</span><br />\n<br />\n&nbsp\;</p>\n\n<p class="xmsonormal"><span style="color: rgb(105\, 105\, 105)\;">Agenda Overview:</span></p>\n\n<p class="xmsonormal"><span style="color: rgb(105\, 105\, 105)\;">11:30am-12pm--- 2023&nbsp\;Tacoma Pierce County Chamber overview and session specific topic discussion.<br />\n<br />\n12-1pm Lunch</span></p>\n\n<p class="xmsonormal"><span style="color: rgb(105\, 105\, 105)\;">1:30pm -5:30pm --- Legislature meetings on the Hill in breakout groups.</span></p>\n\n<p class="xmsonormal"><span style="color: rgb(105\, 105\, 105)\;">5:30pm --- Legislative reception at Boeing House.</span></p>\n\n<p class="xmsonormal"><span style="color:#696969\;">&nbsp\;<strong>Have questions?</strong> Please contact</span><a href="mailto:davids@tacomachamber.org?subject=Chamber%20Advocacy%20Day"><span style="color:#696969\;"> David Schroedel&nbsp\;</span></a></p>\n
LOCATION:
UID:e.1361.18680
SEQUENCE:3
DTSTAMP:20260424T091341Z
URL:https://business.tacomachamber.org/events/details/2023-chamber-legislative-advocacy-day-18680
END:VEVENT

END:VCALENDAR
