BEGIN:VCALENDAR
VERSION:2.0
PRODID:-//ChamberMaster//Event Calendar 2.0//EN
METHOD:PUBLISH
X-PUBLISHED-TTL:P3D
REFRESH-INTERVAL:P3D
CALSCALE:GREGORIAN
BEGIN:VEVENT
DTSTART;VALUE=DATE:20230417
DTEND;VALUE=DATE:20230421
TRANSP:TRANSPARENT
X-MICROSOFT-CDO-ALLDAYEVENT:TRUE
SUMMARY:37th Annual Washington-to-Washington\, D.C. Conference 2023
DESCRIPTION:The Chamber will hold its 37th annual conference in the nation's capital to allow area business leaders and civic officials to participate in meetings with our Congressional delegation\, military officials and federal agency representatives. \n\nThe Chamber delegation will advocate on behalf of a number of issues including transportation and infrastructure\, trade\, fisheries\, Alaska\, defense\, energy\, workforce\, health care\, military procurement\, and economic development.\n\n\n\n\n\nDownloadable Registration Form\n\n \n\n\n\nInterested in learning about this trip?\n\nContact Alison Bryan 253-241-6877\n\n\n\n\n\n\n\nLearn more about the Washington to Washington DC Conference.\n\n&amp\;amp\;amp\;amp\;amp\;amp\;amp\;amp\;amp\;amp\;amp\;amp\;amp\;amp\;amp\;amp\;amp\;amp\;amp\;amp\;amp\;amp\;amp\;amp\;lt\;a data-cke-saved-href=&amp\;amp\;amp\;amp\;amp\;amp\;amp\;amp\;amp\;amp\;amp\;amp\;amp\;amp\;amp\;amp\;amp\;amp\;amp\;amp\;amp\;amp\;amp\;amp\;quot\;https://rss.com/podcasts/miitss/504330/&amp\;amp\;amp\;amp\;amp\;amp\;amp\;amp\;amp\;amp\;amp\;amp\;amp\;amp\;amp\;amp\;amp\;amp\;amp\;amp\;amp\;amp\;amp\;amp\;quot\; href=&amp\;amp\;amp\;amp\;amp\;amp\;amp\;amp\;amp\;amp\;amp\;amp\;amp\;amp\;amp\;amp\;amp\;amp\;amp\;amp\;amp\;amp\;amp\;amp\;quot\;https://rss.com/podcasts/miitss/504330/&amp\;amp\;amp\;amp\;amp\;amp\;amp\;amp\;amp\;amp\;amp\;amp\;amp\;amp\;amp\;amp\;amp\;amp\;amp\;amp\;amp\;amp\;amp\;amp\;quot\;&amp\;amp\;amp\;amp\;amp\;amp\;amp\;amp\;amp\;amp\;amp\;amp\;amp\;amp\;amp\;amp\;amp\;amp\;amp\;amp\;amp\;amp\;amp\;amp\;gt\;36 Years of Washington to Washington DC: Extending the Chamber&amp\;amp\;amp\;amp\;amp\;amp\;amp\;amp\;amp\;amp\;amp\;amp\;amp\;amp\;amp\;amp\;amp\;amp\;amp\;amp\;amp\;amp\;amp\;amp\;#39\;s Voice | RSS.com&amp\;amp\;amp\;amp\;amp\;amp\;amp\;amp\;amp\;amp\;amp\;amp\;amp\;amp\;amp\;amp\;amp\;amp\;amp\;amp\;amp\;amp\;amp\;amp\;lt\;/a&amp\;amp\;amp\;amp\;amp\;amp\;amp\;amp\;amp\;amp\;amp\;amp\;amp\;amp\;amp\;amp\;amp\;amp\;amp\;amp\;amp\;amp\;amp\;amp\;gt\;\n\n\n\n \np.p1 {margin: 0.0px 0.0px 13.0px 0.0px\; line-height: 20.8px\; font: 14.0px Helvetica\; color: #565656\; -webkit-text-stroke: #565656\; background-color: #ffffff} p.p2 {margin: 0.0px 0.0px 0.0px 0.0px\; line-height: 16.0px\; font: 14.0px Helvetica\; color: #565656\; -webkit-text-stroke: #565656} p.p3 {margin: 0.0px 0.0px 0.0px 0.0px\; line-height: 16.0px\; font: 14.0px Helvetica\; color: #565656\; -webkit-text-stroke: #565656\; min-height: 17.0px} p.p4 {margin: 0.0px 0.0px 0.0px 0.0px\; line-height: 16.0px\; font: 14.0px Helvetica\; color: #565656\; -webkit-text-stroke: #565656\; background-color: #ffffff} p.p5 {margin: 0.0px 0.0px 13.0px 0.0px\; line-height: 20.8px\; font: 14.0px Arial\; color: #5a5b5d\; -webkit-text-stroke: #5a5b5d} span.s1 {font-kerning: none} span.s2 {font-kerning: none\; background-color: #ffffff} span.s3 {text-decoration: underline \; font-kerning: none\; color: #106db4\; -webkit-text-stroke: 0px #106db4} span.s4 {font: 13.0px Helvetica\; font-kerning: none\; color: #262626\; -webkit-text-stroke: 0px #262626} span.s5 {font-kerning: none\; color: #262626\; background-color: #ffffff\; -webkit-text-stroke: 0px #262626}
X-ALT-DESC;FMTTYPE=text/html:<p class="p1"><span style="font-size:14px\;"><span style="font-family:verdana\;"><span class="s1">The Chamber will hold its&nbsp\;37th annual conference in the nation&#39\;s capital to allow area&nbsp\;business leaders and civic officials to participate in meetings with our Congressional&nbsp\;delegation\, military officials and federal agency representatives.&nbsp\;</span></span></span></p>\n\n<p class="p2"><span style="font-size:14px\;"><span style="font-family:verdana\;"><span class="s2">The Chamber delegation will advocate on behalf of a number of issues including transportation and infrastructure\, trade\, fisheries\, Alaska\, defense\, energy\, workforce\, health care\, military procurement\, and economic development.</span></span></span><br />\n<br />\n<br />\n<a href="https://chambermaster.blob.core.windows.net/userfiles/UserFiles/chambers/1361/File/Events/WA2WA/Registration-Form_WA2WA-2023.pdf" target="_blank">Downloadable Registration Form</a><br />\n&nbsp\;</p>\n\n<p class="p5"><br />\n<span style="font-size:14px\;"><span style="font-family:verdana\;"><span class="s2">Interested in learning about this trip?</span><br />\n<span class="s2">Contact</span><span class="s5">&nbsp\;<font color="#106db4"><span style="-webkit-text-stroke-color: rgb(16\, 109\, 180)\;">Alison Bryan 253-241-6877</span></font></span></span></span><br />\n<br />\n<br />\n<br />\n<strong>Learn more about the&nbsp\;Washington to Washington DC&nbsp\;Conference.</strong><br />\n<iframe allow="accelerometer\; autoplay\; clipboard-write\; encrypted-media\; gyroscope\; picture-in-picture" allowfullscreen="" frameborder="0" src="https://player.rss.com/miitss/504330" style="width: 100%" title="Making It in the South Sound">&amp\;amp\;amp\;amp\;amp\;amp\;amp\;amp\;amp\;amp\;amp\;amp\;amp\;amp\;amp\;amp\;amp\;amp\;amp\;amp\;amp\;amp\;amp\;amp\;amp\;lt\;a data-cke-saved-href=&amp\;amp\;amp\;amp\;amp\;amp\;amp\;amp\;amp\;amp\;amp\;amp\;amp\;amp\;amp\;amp\;amp\;amp\;amp\;amp\;amp\;amp\;amp\;amp\;amp\;quot\;https://rss.com/podcasts/miitss/504330/&amp\;amp\;amp\;amp\;amp\;amp\;amp\;amp\;amp\;amp\;amp\;amp\;amp\;amp\;amp\;amp\;amp\;amp\;amp\;amp\;amp\;amp\;amp\;amp\;amp\;quot\; href=&amp\;amp\;amp\;amp\;amp\;amp\;amp\;amp\;amp\;amp\;amp\;amp\;amp\;amp\;amp\;amp\;amp\;amp\;amp\;amp\;amp\;amp\;amp\;amp\;amp\;quot\;https://rss.com/podcasts/miitss/504330/&amp\;amp\;amp\;amp\;amp\;amp\;amp\;amp\;amp\;amp\;amp\;amp\;amp\;amp\;amp\;amp\;amp\;amp\;amp\;amp\;amp\;amp\;amp\;amp\;amp\;quot\;&amp\;amp\;amp\;amp\;amp\;amp\;amp\;amp\;amp\;amp\;amp\;amp\;amp\;amp\;amp\;amp\;amp\;amp\;amp\;amp\;amp\;amp\;amp\;amp\;amp\;gt\;36 Years of Washington to Washington DC: Extending the Chamber&amp\;amp\;amp\;amp\;amp\;amp\;amp\;amp\;amp\;amp\;amp\;amp\;amp\;amp\;amp\;amp\;amp\;amp\;amp\;amp\;amp\;amp\;amp\;amp\;amp\;#39\;s Voice | RSS.com&amp\;amp\;amp\;amp\;amp\;amp\;amp\;amp\;amp\;amp\;amp\;amp\;amp\;amp\;amp\;amp\;amp\;amp\;amp\;amp\;amp\;amp\;amp\;amp\;amp\;lt\;/a&amp\;amp\;amp\;amp\;amp\;amp\;amp\;amp\;amp\;amp\;amp\;amp\;amp\;amp\;amp\;amp\;amp\;amp\;amp\;amp\;amp\;amp\;amp\;amp\;amp\;gt\;</iframe><br />\n<br />\n&nbsp\;</p>\n<style type="text/css">p.p1 {margin: 0.0px 0.0px 13.0px 0.0px\; line-height: 20.8px\; font: 14.0px Helvetica\; color: #565656\; -webkit-text-stroke: #565656\; background-color: #ffffff} p.p2 {margin: 0.0px 0.0px 0.0px 0.0px\; line-height: 16.0px\; font: 14.0px Helvetica\; color: #565656\; -webkit-text-stroke: #565656} p.p3 {margin: 0.0px 0.0px 0.0px 0.0px\; line-height: 16.0px\; font: 14.0px Helvetica\; color: #565656\; -webkit-text-stroke: #565656\; min-height: 17.0px} p.p4 {margin: 0.0px 0.0px 0.0px 0.0px\; line-height: 16.0px\; font: 14.0px Helvetica\; color: #565656\; -webkit-text-stroke: #565656\; background-color: #ffffff} p.p5 {margin: 0.0px 0.0px 13.0px 0.0px\; line-height: 20.8px\; font: 14.0px Arial\; color: #5a5b5d\; -webkit-text-stroke: #5a5b5d} span.s1 {font-kerning: none} span.s2 {font-kerning: none\; background-color: #ffffff} span.s3 {text-decoration: underline \; font-kerning: none\; color: #106db4\; -webkit-text-stroke: 0px #106db4} span.s4 {font: 13.0px Helvetica\; font-kerning: none\; color: #262626\; -webkit-text-stroke: 0px #262626} span.s5 {font-kerning: none\; color: #262626\; background-color: #ffffff\; -webkit-text-stroke: 0px #262626}\n</style>\n
LOCATION:https://chambermaster.blob.core.windows.net/userfiles/UserFiles/chambers/1361/File/Events/WA2WA/Registration-Form_WA2WA-2023.pdf
UID:e.1361.18493
SEQUENCE:3
DTSTAMP:20260424T055458Z
URL:https://business.tacomachamber.org/events/details/37th-annual-washington-to-washington-d-c-conference-2023-18493
END:VEVENT

END:VCALENDAR
