BEGIN:VCALENDAR
VERSION:2.0
PRODID:-//ChamberMaster//Event Calendar 2.0//EN
METHOD:PUBLISH
X-PUBLISHED-TTL:P3D
REFRESH-INTERVAL:P3D
CALSCALE:GREGORIAN
BEGIN:VEVENT
DTSTART:20260514T200000Z
DTEND:20260514T220000Z
X-MICROSOFT-CDO-ALLDAYEVENT:FALSE
SUMMARY:Advocacy for Business Round Table
DESCRIPTION:The Tacoma-Pierce County Chamber champions policies and initiatives that strengthen the regional business climate by actively identifying barriers\, engaging decision-makers\, and amplifying the voice of the business community.
X-ALT-DESC;FMTTYPE=text/html:<em>The Tacoma-Pierce County Chamber champions policies and initiatives that strengthen the regional business climate by actively identifying barriers\, engaging decision-makers\, and amplifying the voice of the business community.</em>
LOCATION:Tacoma-Pierce County Chamber Office 950 Pacific Avenue\, Suite 300\, Tacoma\, WA 98402
UID:e.1361.22076
SEQUENCE:3
DTSTAMP:20260422T000239Z
URL:https://business.tacomachamber.org/events/details/advocacy-for-business-round-table-22076
END:VEVENT

END:VCALENDAR
