BEGIN:VCALENDAR
VERSION:2.0
PRODID:-//ChamberMaster//Event Calendar 2.0//EN
METHOD:PUBLISH
X-PUBLISHED-TTL:P3D
REFRESH-INTERVAL:P3D
CALSCALE:GREGORIAN
BEGIN:VEVENT
DTSTART;VALUE=DATE:20231010
DTEND;VALUE=DATE:20231014
TRANSP:TRANSPARENT
X-MICROSOFT-CDO-ALLDAYEVENT:TRUE
SUMMARY:Aspire 2023
DESCRIPTION:The Tacoma-Pierce County Chamber is embarking on its fourth annual intercity visit and leadership conference\, Aspire. Its purpose is to explore new programs and initiatives in a city similar to our community\, giving us a chance to study one of America's other great cities and adapt its best practices to meet the growing needs of the South Sound.\n\n\n\nWe're excited to bring Aspire to Austin\, a vibrant and dynamic city that has a thriving economy\, and is home to numerous tech companies\, a world-renowned music scene\, and a diverse and talented workforce. Our agenda will include:\n\n	Tech and business attraction and retention\n	Smart urban growth and development strategies\n	The creative economy\n	Innovative solutions to social issues such as the community first approach for homelessness\n\nFor more information visit: aspiresouthsound.com
X-ALT-DESC;FMTTYPE=text/html:The Tacoma-Pierce County Chamber is embarking on its fourth annual intercity visit and leadership conference\, Aspire. Its purpose is to explore new programs and initiatives in a city similar to our community\, giving us a chance to study one of America&rsquo\;s other great cities and adapt its best practices to meet the growing needs of the South Sound.<br />\n<br />\nWe&rsquo\;re excited to bring Aspire to Austin\, a vibrant and dynamic city that has a thriving economy\, and is home to numerous tech companies\, a world-renowned music scene\, and a diverse and talented workforce. Our agenda will include:\n<ul>\n	<li>Tech and business attraction and retention</li>\n	<li>Smart urban growth and development strategies</li>\n	<li>The creative economy</li>\n	<li>Innovative solutions to social issues such as the community first approach for homelessness</li>\n</ul>\nFor more information visit: <a href="http://aspiresouthsound.com">aspiresouthsound.com</a>
LOCATION:
UID:e.1361.18783
SEQUENCE:3
DTSTAMP:20260423T201034Z
URL:https://business.tacomachamber.org/events/details/aspire-2023-18783
END:VEVENT

END:VCALENDAR
