BEGIN:VCALENDAR
VERSION:2.0
PRODID:-//ChamberMaster//Event Calendar 2.0//EN
METHOD:PUBLISH
X-PUBLISHED-TTL:P3D
REFRESH-INTERVAL:P3D
CALSCALE:GREGORIAN
BEGIN:VEVENT
DTSTART:20260413T203000Z
DTEND:20260413T220000Z
X-MICROSOFT-CDO-ALLDAYEVENT:FALSE
SUMMARY:CEO Round Table
DESCRIPTION:Event was cancelled.
X-ALT-DESC;FMTTYPE=text/html:Event was cancelled.
LOCATION:950 Pacific Ave Ste 300 Tacoma\, WA 98402
UID:e.1361.21960
SEQUENCE:3
DTSTAMP:20260420T083948Z
URL:https://business.tacomachamber.org/events/details/ceo-round-table-21960
END:VEVENT

END:VCALENDAR
