BEGIN:VCALENDAR
VERSION:2.0
PRODID:-//ChamberMaster//Event Calendar 2.0//EN
METHOD:PUBLISH
X-PUBLISHED-TTL:P3D
REFRESH-INTERVAL:P3D
CALSCALE:GREGORIAN
BEGIN:VEVENT
DTSTART:20230317T000000Z
DTEND:20230317T020000Z
X-MICROSOFT-CDO-ALLDAYEVENT:FALSE
SUMMARY:Chamber After Hours
DESCRIPTION:Chamber After-Hours is a monthly gathering where you are able to build relationships with small\, medium\, and large Chamber investors. This is your chance to promote your organization\, form strategic partnerships\,  and interact with new businesses.\n\n\n\nMust be 21 to attend.
X-ALT-DESC;FMTTYPE=text/html:<span style="color: rgb(105\, 105\, 105)\; font-family: arial\; font-size: 16px\; font-style: italic\;">Chamber After-Hours is a monthly gathering where you are able to build relationships with small\, medium\, and large Chamber&nbsp\;investors. This is your chance to promote your organization\, form strategic partnerships\, &nbsp\;and interact with new businesses.</span><br style="color: rgb(105\, 105\, 105)\; font-family: arial\; font-size: 16px\; font-style: italic\;" />\n<br style="color: rgb(105\, 105\, 105)\; font-family: arial\; font-size: 16px\; font-style: italic\;" />\n<span style="color: rgb(105\, 105\, 105)\; font-family: arial\; font-size: 16px\; font-style: italic\;">Must be 21 to attend.</span>
LOCATION:Dancing Goats Coffee 2102 Commerce Street Tacoma\, WA 98402 PARKING: Republic Parking 923 Commerce St Tacoma\, WA 98402 Catch Light Rail at Commerce Street Stop '1'. Ride to Union Street Stop '4'. Get off at Union Street Stop '4'\, walk along Pacific Avenue. Cross at Pacific & S 21st Street. Walk up hill towards Brewery Blocks. See map for details. Track Light Rail times here: https://www.soundtransit.org/ride-with-us/routes-schedules/t-line?at=1674028800000&direction=1&start_stop=3_27454&view=table&route_tab=schedule&stops_0=40_TL_TD%2C40_TL_CS&stops_1=40_TL_CS%2C40_TL_TD
UID:e.1361.18666
SEQUENCE:3
DTSTAMP:20260424T072532Z
URL:https://business.tacomachamber.org/events/details/chamber-after-hours-18666
END:VEVENT

END:VCALENDAR
