BEGIN:VCALENDAR
VERSION:2.0
PRODID:-//ChamberMaster//Event Calendar 2.0//EN
METHOD:PUBLISH
X-PUBLISHED-TTL:P3D
REFRESH-INTERVAL:P3D
CALSCALE:GREGORIAN
BEGIN:VEVENT
DTSTART:20230519T000000Z
DTEND:20230519T020000Z
X-MICROSOFT-CDO-ALLDAYEVENT:FALSE
SUMMARY:Chamber After Hours
DESCRIPTION:Chamber After-Hours is a monthly gathering where you are able to build relationships with small\, medium\, and large Chamber investors. This is your chance to promote your organization\, form strategic partnerships\,  and interact with new businesses.\n\n\n\nMust be 21 to attend.
X-ALT-DESC;FMTTYPE=text/html:<span style="color: rgb(105\, 105\, 105)\; font-family: arial\; font-size: 16px\; font-style: italic\;">Chamber After-Hours is a monthly gathering where you are able to build relationships with small\, medium\, and large Chamber&nbsp\;investors. This is your chance to promote your organization\, form strategic partnerships\, &nbsp\;and interact with new businesses.</span><br style="color: rgb(105\, 105\, 105)\; font-family: arial\; font-size: 16px\; font-style: italic\;" />\n<br style="color: rgb(105\, 105\, 105)\; font-family: arial\; font-size: 16px\; font-style: italic\;" />\n<span style="color: rgb(105\, 105\, 105)\; font-family: arial\; font-size: 16px\; font-style: italic\;">Must be 21 to attend.</span>
LOCATION:Tacoma-Pierce County Association of Realtors hosted at Merrill Gardens at Wright Park 5 South G Street Tacoma\, WA 98405 (roof-top deck/sky lounge) PARKING: There is limited on-street parking in front of Merrill Gardens and on Division. We did get permission from First Presbyterian Church next door to use their parking lots\, so all of the parking behind Merrill Gardens are available that evening.
UID:e.1361.18668
SEQUENCE:3
DTSTAMP:20260424T041931Z
URL:https://business.tacomachamber.org/events/details/chamber-after-hours-18668
END:VEVENT

END:VCALENDAR
