BEGIN:VCALENDAR
VERSION:2.0
PRODID:-//ChamberMaster//Event Calendar 2.0//EN
METHOD:PUBLISH
X-PUBLISHED-TTL:P3D
REFRESH-INTERVAL:P3D
CALSCALE:GREGORIAN
BEGIN:VEVENT
DTSTART:20230714T000000Z
DTEND:20230714T020000Z
X-MICROSOFT-CDO-ALLDAYEVENT:FALSE
SUMMARY:Chamber After Hours
DESCRIPTION:Chamber After-Hours is a monthly gathering where you are able to build relationships with small\, medium\, and large Chamber investors. This is your chance to promote your organization\, form strategic partnerships\,  and interact with new businesses.\n\n\n\nMust be 21 to attend.
X-ALT-DESC;FMTTYPE=text/html:<span style="color: rgb(105\, 105\, 105)\; font-family: arial\; font-size: 16px\; font-style: italic\;">Chamber After-Hours is a monthly gathering where you are able to build relationships with small\, medium\, and large Chamber&nbsp\;investors. This is your chance to promote your organization\, form strategic partnerships\, &nbsp\;and interact with new businesses.</span><br style="color: rgb(105\, 105\, 105)\; font-family: arial\; font-size: 16px\; font-style: italic\;" />\n<br style="color: rgb(105\, 105\, 105)\; font-family: arial\; font-size: 16px\; font-style: italic\;" />\n<span style="color: rgb(105\, 105\, 105)\; font-family: arial\; font-size: 16px\; font-style: italic\;">Must be 21 to attend.</span>
LOCATION:El Gaucho Tacoma 2119 Pacific Avenue Tacoma\, WA 98402 Complimentary valet parking is on the corner of S. 22nd and Pacific Avenue or street parking is also available.
UID:e.1361.18669
SEQUENCE:3
DTSTAMP:20260424T011813Z
URL:https://business.tacomachamber.org/events/details/chamber-after-hours-18669
END:VEVENT

END:VCALENDAR
