BEGIN:VCALENDAR
VERSION:2.0
PRODID:-//ChamberMaster//Event Calendar 2.0//EN
METHOD:PUBLISH
X-PUBLISHED-TTL:P3D
REFRESH-INTERVAL:P3D
CALSCALE:GREGORIAN
BEGIN:VEVENT
DTSTART:20230818T000000Z
DTEND:20230818T020000Z
X-MICROSOFT-CDO-ALLDAYEVENT:FALSE
SUMMARY:Chamber After Hours
DESCRIPTION:Chamber After-Hours is a monthly gathering where you are able to build relationships with small\, medium\, and large Chamber investors. This is your chance to promote your organization\, form strategic partnerships\,  and interact with new businesses.\n\n\n\nMust be 21 to attend.
X-ALT-DESC;FMTTYPE=text/html:<span style="color: rgb(105\, 105\, 105)\; font-family: arial\; font-size: 16px\; font-style: italic\;">Chamber After-Hours is a monthly gathering where you are able to build relationships with small\, medium\, and large Chamber&nbsp\;investors. This is your chance to promote your organization\, form strategic partnerships\, &nbsp\;and interact with new businesses.</span><br style="color: rgb(105\, 105\, 105)\; font-family: arial\; font-size: 16px\; font-style: italic\;" />\n<br style="color: rgb(105\, 105\, 105)\; font-family: arial\; font-size: 16px\; font-style: italic\;" />\n<span style="color: rgb(105\, 105\, 105)\; font-family: arial\; font-size: 16px\; font-style: italic\;">Must be 21 to attend.</span>
LOCATION:Washington State Fairgrounds and Event Center Please join us at the Garden Court located between the Grandstand and the Food Court The gate that will be open will be just east of the Red Gate takes folks directly into Garden Court. Parking the B Lot will be open. This lot is directly across from the gate that they will enter through. See map below.
UID:e.1361.18670
SEQUENCE:3
DTSTAMP:20260423T232821Z
URL:https://business.tacomachamber.org/events/details/chamber-after-hours-18670
END:VEVENT

END:VCALENDAR
