BEGIN:VCALENDAR
VERSION:2.0
PRODID:-//ChamberMaster//Event Calendar 2.0//EN
METHOD:PUBLISH
X-PUBLISHED-TTL:P3D
REFRESH-INTERVAL:P3D
CALSCALE:GREGORIAN
BEGIN:VEVENT
DTSTART;VALUE=DATE:20230926
DTEND;VALUE=DATE:20230927
TRANSP:TRANSPARENT
X-MICROSOFT-CDO-ALLDAYEVENT:TRUE
SUMMARY:Civics Bee Landing Page
DESCRIPTION:Non-Student Attendees please use this link to register to attend our Live Bee:\n\nhttps://business.tacomachamber.org/events/details/local-civics-bee-with-the-tacoma-pierce-county-chamber-19084
X-ALT-DESC;FMTTYPE=text/html:Non-Student Attendees please use this link to register to attend our Live Bee:<br />\nhttps://business.tacomachamber.org/events/details/local-civics-bee-with-the-tacoma-pierce-county-chamber-19084
LOCATION:
UID:e.1361.19083
SEQUENCE:3
DTSTAMP:20260423T214220Z
URL:https://business.tacomachamber.org/events/details/civics-bee-landing-page-19083
END:VEVENT

END:VCALENDAR
