BEGIN:VCALENDAR
VERSION:2.0
PRODID:-//ChamberMaster//Event Calendar 2.0//EN
METHOD:PUBLISH
X-PUBLISHED-TTL:P3D
REFRESH-INTERVAL:P3D
CALSCALE:GREGORIAN
BEGIN:VEVENT
DTSTART:20230520T170000Z
DTEND:20230520T230000Z
X-MICROSOFT-CDO-ALLDAYEVENT:FALSE
SUMMARY:Grand Opening of The Coffee Oasis Tacoma Café and Youth Center
DESCRIPTION:You are invited to the Grand Opening of The Coffee Oasis Tacoma Caf  and Youth Center on Saturday\, May 20\, 2023. Join us for a ribbon cutting ceremony\, executive director address\, and refreshments. Invite your friends to sample The Coffee Oasis Caf  food and drinks\, and learn about the mission!\n\n \nThe Coffee Oasis Tacoma Caf   - 1424 Tacoma Ave South\n\n\n10AM: RIBBON CUTTING CEREMONY\n\n  Executive Director Address\n\n  Special Guest Speakers\n\n\n\n8AM   4PM: REFRESHMENTS\n\n  Free Coffee & Food Samples\n\n  Open Coffee Bar
X-ALT-DESC;FMTTYPE=text/html:<address>You are invited to the Grand Opening of The Coffee Oasis Tacoma Caf&eacute\; and Youth Center on Saturday\, May 20\, 2023. Join us for a ribbon cutting ceremony\, executive director address\, and refreshments. Invite your friends to sample The Coffee Oasis Caf&eacute\; food and drinks\, and learn about the mission!<br />\n&nbsp\;\n<address><strong>The Coffee Oasis Tacoma <em>Caf&eacute\;&nbsp\; -&nbsp\;</em>1424 Tacoma Ave South</strong></address>\n<br />\n10AM: RIBBON CUTTING CEREMONY<br />\n&ndash\; Executive Director Address<br />\n&ndash\; Special Guest Speakers<br />\n<br />\n8AM &ndash\; 4PM: REFRESHMENTS<br />\n&ndash\; Free Coffee &amp\; Food Samples<br />\n&ndash\; Open Coffee Bar</address>\n
LOCATION:
UID:e.1361.18787
SEQUENCE:3
DTSTAMP:20260424T043211Z
URL:https://business.tacomachamber.org/events/details/grand-opening-of-the-coffee-oasis-tacoma-caf&#233;-and-youth-center-18787
END:VEVENT

END:VCALENDAR
