BEGIN:VCALENDAR
VERSION:2.0
PRODID:-//ChamberMaster//Event Calendar 2.0//EN
METHOD:PUBLISH
X-PUBLISHED-TTL:P3D
REFRESH-INTERVAL:P3D
CALSCALE:GREGORIAN
BEGIN:VEVENT
DTSTART:20230615T233000Z
DTEND:20230616T023000Z
X-MICROSOFT-CDO-ALLDAYEVENT:FALSE
SUMMARY:Happy Hour Business Expo 2023
DESCRIPTION:
X-ALT-DESC;FMTTYPE=text/html:
LOCATION:Waterfront Venue at Narrows Marina https://www.thewaterfrontvenue.com/ 9007 S 19th Street Tacoma\, WA 98466 Parking information VENDORS: You will be escorted by parking lot attendants to the DAY ISLAND parking lot. ALL VENDORS MUST PARK IN THIS LOT. Should you need to unload at the unloading dock\, you may do so\, followed by parking in the DAY ISLAND parking lot. ATTENDEES: You will be escorted by parking lot attendants to the nearest open parking spot. We will start filling in from the DAY ISLAND parking lot. Parking Exceptions: Those who need access to accessible parking MUST make it known to the parking lot attendants. You will be taken to the closest available accessible spot.
UID:e.1361.18674
SEQUENCE:3
DTSTAMP:20260424T042827Z
URL:https://business.tacomachamber.org/events/details/happy-hour-business-expo-2023-18674
END:VEVENT

END:VCALENDAR
