BEGIN:VCALENDAR
VERSION:2.0
PRODID:-//ChamberMaster//Event Calendar 2.0//EN
METHOD:PUBLISH
X-PUBLISHED-TTL:P3D
REFRESH-INTERVAL:P3D
CALSCALE:GREGORIAN
BEGIN:VEVENT
DTSTART:20230904T153000Z
DTEND:20230905T000000Z
X-MICROSOFT-CDO-ALLDAYEVENT:FALSE
SUMMARY:Labor Day Holiday - Chamber Office Closed
DESCRIPTION:
X-ALT-DESC;FMTTYPE=text/html:
LOCATION:
UID:e.1361.18727
SEQUENCE:3
DTSTAMP:20260423T214415Z
URL:https://business.tacomachamber.org/events/details/labor-day-holiday-chamber-office-closed-18727
END:VEVENT

END:VCALENDAR
