BEGIN:VCALENDAR
VERSION:2.0
PRODID:-//ChamberMaster//Event Calendar 2.0//EN
METHOD:PUBLISH
X-PUBLISHED-TTL:P3D
REFRESH-INTERVAL:P3D
CALSCALE:GREGORIAN
BEGIN:VEVENT
DTSTART:20230503T160000Z
DTEND:20230503T170000Z
X-MICROSOFT-CDO-ALLDAYEVENT:FALSE
SUMMARY:MIC
DESCRIPTION:MIC General Meeting Agenda May 3\, 2023\n\n \n\n9:00am\n\nThe Fabulich Center\n\n3600 Port of Tacoma Road\; 98424\n\n \n\n	Greeting & Introductions \n\n \n\n\n	SB 5269 Washington Clean Manufacturing Leadership Act\n\n        Michael Transue\n\n \n\n	Tideflats Runner Program \n\n        Erik Jaszewski Senior Planner Planning & Community Dev. Pierce Transit\n\n \n\n	Updates \n\n \n\n\n	TAG: Shoreline Public access & Recreation\n	South Tacoma: Bridge Industrial Permit Approval\n\n \n\n\n	Good of the Order \n\n \n\n \n\n \n\nThe Manufacturing Industrial Council for the South Sound is the voice for the manufacturing\, industrial\, and maritime community.\n\n\n\n We promote and enhance a positive business climate for manufacturing and related industries. \n\nWe are dedicated to safeguarding and improving people's lives\, creating a sustainable environment\, and providing the jobs that anchor Washington's economy.
X-ALT-DESC;FMTTYPE=text/html:<strong><span style="color:#666666\;"><span style="font-family:arial\,sans-serif\;"><span style="font-size:16.0pt\;">MIC General Meeting Agenda May 3\, 2023</span></span></span></strong><br />\n&nbsp\;<br />\n<strong><span style="font-family:arial\,sans-serif\;">9:00am</span></strong><br />\n<strong><span style="font-style:normal\;"><span style="color:#0070C0\;"><span style="font-size:11.0pt\;">The Fabulich Center</span></span></span></strong><br />\n<strong><span style="font-style:normal\;"><span style="color:#0070C0\;"><span style="font-size:11.0pt\;">3600 Port of Tacoma Road\; 98424</span></span></span></strong><br />\n&nbsp\;\n<ol>\n	<li style="margin-bottom:6.0pt\;"><strong><span style="font-family:arial\,sans-serif\;">Greeting &amp\; Introductions&nbsp\;</span></strong></li>\n</ol>\n&nbsp\;\n\n<ol>\n	<li style="margin-bottom:6.0pt\;" value="2"><strong><span style="font-family:arial\,sans-serif\;">SB 5269 Washington Clean Manufacturing Leadership Act</span></strong></li>\n</ol>\n&nbsp\;&nbsp\;&nbsp\;&nbsp\;&nbsp\;&nbsp\;&nbsp\;&nbsp\;<strong><span style="color:#0070C0\;"><span style="font-family:arial\,sans-serif\;"><span style="font-size:11.0pt\;">Michael Transue</span></span></span></strong><br />\n&nbsp\;\n<ol>\n	<li style="margin-bottom:6.0pt\;" value="3"><strong><span style="font-family:arial\,sans-serif\;">Tideflats Runner Program&nbsp\;</span></strong></li>\n</ol>\n&nbsp\;&nbsp\;&nbsp\;&nbsp\;&nbsp\;&nbsp\;&nbsp\;&nbsp\;<strong><span style="color:#0070C0\;"><span style="font-family:arial\,sans-serif\;">Erik Jaszewski Senior Planner Planning &amp\; Community Dev. Pierce Transit</span></span></strong><br />\n&nbsp\;\n<ol>\n	<li style="margin-top:6.0pt\;margin-right:0in\;margin-bottom:6.0pt\;" value="4"><strong><span style="font-family:arial\,sans-serif\;">Updates&nbsp\;</span></strong></li>\n</ol>\n&nbsp\;\n\n<ol style="list-style-type:lower-alpha\;">\n	<li style="margin-top:6.0pt\;margin-right:0in\;margin-bottom:6.0pt\;"><span style="font-family:arial\,sans-serif\;"><span style="font-size:11.0pt\;">TAG: Shoreline Public access &amp\; Recreation</span></span></li>\n	<li style="margin-top:6.0pt\;margin-right:0in\;margin-bottom:6.0pt\;"><span style="font-family:arial\,sans-serif\;"><span style="font-size:11.0pt\;">South Tacoma: Bridge Industrial Permit Approval</span></span></li>\n</ol>\n&nbsp\;\n\n<ol>\n	<li style="margin-bottom:6.0pt\;" value="5"><strong><span style="font-family:arial\,sans-serif\;">Good of the Order&nbsp\;</span></strong></li>\n</ol>\n&nbsp\;<br />\n&nbsp\;<br />\n&nbsp\;<br />\n<strong><span style="color:#7F7F7F\;"><span style="font-family:work sans\;"><span style="font-size:11.0pt\;">The Manufacturing Industrial Council for the South Sound</span></span></span></strong><span style="color:#7F7F7F\;"><span style="font-family:work sans\;"><span style="font-size:11.0pt\;"> is the voice for the manufacturing\, industrial\, and maritime community.</span></span></span><br />\n<br />\n<span style="color:#7F7F7F\;"><span style="font-family:work sans\;"><span style="font-size:9.0pt\;">&#8203\;We promote and enhance a positive business climate for manufacturing and related industries. </span></span></span><br />\n<span style="color:#7F7F7F\;"><span style="font-family:work sans\;"><span style="font-size:9.0pt\;">We are dedicated to safeguarding and improving people&rsquo\;s lives\, creating a sustainable environment\, and providing the jobs that anchor Washington&rsquo\;s economy.</span></span></span>
LOCATION:
UID:e.1361.18786
SEQUENCE:3
DTSTAMP:20260424T041810Z
URL:https://business.tacomachamber.org/events/details/mic-18786
END:VEVENT

END:VCALENDAR
