BEGIN:VCALENDAR
VERSION:2.0
PRODID:-//ChamberMaster//Event Calendar 2.0//EN
METHOD:PUBLISH
X-PUBLISHED-TTL:P3D
REFRESH-INTERVAL:P3D
CALSCALE:GREGORIAN
BEGIN:VEVENT
DTSTART:20230321T150000Z
DTEND:20230321T163000Z
X-MICROSOFT-CDO-ALLDAYEVENT:FALSE
SUMMARY:Military Affairs Forum
DESCRIPTION:Military Affairs Forum works to enhance communication and opportunities between the civilian community and defense installations.  During the event we will hold community updates\, networking and listen to a keynote update.\n\n\n\nTammie Perreault will speak at the March 21st MAF\n\nTopic: She'll talk about the Defense State Liaison Office and its mission to provide state policymakers with expert insight on issues affecting military families and their quality of life. This initiative is part of the Defense Department's efforts to identify and address the most pressing needs of service members and military families. Tammie will discuss also discuss some of the key issues it addresses with state legislators.  \n\n \n\nTammie Perreault has been a Northwest Region Liaison since in 2018. Prior to joining the Defense State Liaison Office (DSLO)\, she worked in both the corporate and nonprofit sectors in public policy development and advocacy. Ms. Perreault is a U.S. Army combat veteran.
X-ALT-DESC;FMTTYPE=text/html:<em style="color: rgb(105\, 105\, 105)\; font-family: arial\; font-size: 14px\;">Military Affairs Forum works to enhance communication and opportunities between the civilian community and defense installations.&nbsp\; During the event we will hold community updates\, networking and listen to a keynote update.</em><br />\n<br />\n<strong><span style="color:#1F497D\;">Tammie Perreault will speak at the March 21<sup>st</sup> MAF</span></strong><br />\n<strong><span style="color:#1F497D\;">Topic: She&rsquo\;ll talk about the Defense State Liaison Office</span></strong><span style="color:#1F497D\;"> and its mission to provide state policymakers with expert insight on issues affecting military families and their quality of life. This initiative is part of the Defense Department&rsquo\;s efforts to identify and address the most pressing needs of service members and military families. Tammie will discuss also discuss some of the key issues it addresses with state legislators.&nbsp\; </span><br />\n&nbsp\;<br />\n<span style="color:#1F497D\;">Tammie Perreault has been a Northwest Region Liaison since in 2018. Prior to joining the Defense State Liaison Office (DSLO)\, she worked in both the corporate and nonprofit sectors in public policy development and advocacy. Ms. Perreault is a U.S. Army combat veteran.&nbsp\; </span><br />\n&nbsp\;
LOCATION:La Quinta Inn and Suites Conference Center 1425 E 27th Street Tacoma\, WA 98421-2200
UID:e.1361.18741
SEQUENCE:3
DTSTAMP:20260424T090943Z
URL:https://business.tacomachamber.org/events/details/military-affairs-forum-18741
END:VEVENT

END:VCALENDAR
