BEGIN:VCALENDAR
VERSION:2.0
PRODID:-//ChamberMaster//Event Calendar 2.0//EN
METHOD:PUBLISH
X-PUBLISHED-TTL:P3D
REFRESH-INTERVAL:P3D
CALSCALE:GREGORIAN
BEGIN:VEVENT
DTSTART:20260506T220000Z
DTEND:20260506T233000Z
X-MICROSOFT-CDO-ALLDAYEVENT:FALSE
SUMMARY:Resource for Small Businesses Round Table
DESCRIPTION:The Tacoma-Pierce County Chamber serves as a centralized hub connecting businesses to critical tools\, expertise\, and support systems that enable resilience\, scalability\, and long-term success.
X-ALT-DESC;FMTTYPE=text/html:<em>The Tacoma-Pierce County Chamber serves as a centralized hub connecting businesses to critical tools\, expertise\, and support systems that enable resilience\, scalability\, and long-term success.</em>
LOCATION:Tacoma-Pierce County Chamber Office 950 Pacific Avenue\, Suite 300\, Tacoma\, WA 98402
UID:e.1361.22075
SEQUENCE:3
DTSTAMP:20260422T014515Z
URL:https://business.tacomachamber.org/events/details/resource-for-small-businesses-round-table-22075
END:VEVENT

END:VCALENDAR
