BEGIN:VCALENDAR
VERSION:2.0
PRODID:-//ChamberMaster//Event Calendar 2.0//EN
METHOD:PUBLISH
X-PUBLISHED-TTL:P3D
REFRESH-INTERVAL:P3D
CALSCALE:GREGORIAN
BEGIN:VEVENT
DTSTART:20230824T230000Z
DTEND:20230825T010000Z
X-MICROSOFT-CDO-ALLDAYEVENT:FALSE
SUMMARY:Ribbon Cutting-American Red Cross
DESCRIPTION:Join us at the Ribbon Cutting for American Red Cross! This is to celebrate the Grand Opening of their relocated Red Cross office of South Puget Sound and Olympics Chapter.\n\nPublic Officials & VIP in attendance:\n\n\n	University Place Mayor Steve Worthington \n	University Place Council Member Edward Wood\n	University Place Council Member Javier Figueroa\n	Senator Murray's District Representative Juan Beltran\n	Derek Kilmer's District Representative Courtney Acoff\n	City of Tacoma Deputy Mayor Kristina Walker
X-ALT-DESC;FMTTYPE=text/html:Join us at the Ribbon Cutting for American Red Cross! This is to celebrate the Grand Opening of their relocated Red Cross office of South Puget Sound and Olympics Chapter.<br />\n<strong>Public Officials &amp\; VIP in attendance:</strong>\n\n<ul>\n	<li><strong>University Place Mayor Steve Worthington&nbsp\;</strong></li>\n	<li><strong>University Place Council Member Edward Wood</strong></li>\n	<li><strong>University Place Council Member Javier Figueroa</strong></li>\n	<li><strong>Senator Murray&#39\;s District Representative Juan Beltran</strong></li>\n	<li><strong>Derek Kilmer&#39\;s District Representative Courtney Acoff</strong></li>\n	<li><b>City of Tacoma Deputy Mayor Kristina Walker</b></li>\n</ul>\n
LOCATION:American Red Cross 4310 Bridgeport Way W University Place\, WA
UID:e.1361.18803
SEQUENCE:3
DTSTAMP:20260423T233307Z
URL:https://business.tacomachamber.org/events/details/ribbon-cutting-american-red-cross-18803
END:VEVENT

END:VCALENDAR
