BEGIN:VCALENDAR
VERSION:2.0
PRODID:-//ChamberMaster//Event Calendar 2.0//EN
METHOD:PUBLISH
X-PUBLISHED-TTL:P3D
REFRESH-INTERVAL:P3D
CALSCALE:GREGORIAN
BEGIN:VEVENT
DTSTART:20230524T210000Z
DTEND:20230524T220000Z
X-MICROSOFT-CDO-ALLDAYEVENT:FALSE
SUMMARY:Ribbon Cutting-Carlile Transportation
DESCRIPTION:Please join us at the ribbon cutting for Carlile Transportation. This is to celebrate their grand opening for the new water treatment facility. \n\n	The ceremony area is a mix of paving and dirt. Please wear appropriate clothing and footwear. \n	Please stay in the designated area for the ceremony and then depart the same way you come in. There will be signs to help facilitate this. \n	Parking opens at 2:00 p.m. and the ceremony is at 2:30 p.m.
X-ALT-DESC;FMTTYPE=text/html:Please join us at the ribbon cutting for Carlile Transportation. This is to celebrate their grand opening for the new water treatment facility.&nbsp\;\n<ul>\n	<li style="color:red\;margin-top:0in\;margin-bottom:0in\;">The ceremony area is a mix of paving and dirt. Please wear appropriate clothing and footwear.&nbsp\;</li>\n	<li style="color:red\;margin-top:0in\;margin-bottom:0in\;">Please stay in the designated area for the ceremony and then depart the same way you come in. There will be signs to help facilitate this.&nbsp\;</li>\n	<li style="color:red\;margin-top:0in\;margin-bottom:0in\;">Parking opens at 2:00 p.m. and the ceremony is at 2:30 p.m.</li>\n</ul>\n
LOCATION:Carlile Transporation 2301 Taylor Way Tacoma\, WA 98421
UID:e.1361.18784
SEQUENCE:3
DTSTAMP:20260424T042206Z
URL:https://business.tacomachamber.org/events/details/ribbon-cutting-carlile-transportation-18784
END:VEVENT

END:VCALENDAR
