BEGIN:VCALENDAR
VERSION:2.0
PRODID:-//ChamberMaster//Event Calendar 2.0//EN
METHOD:PUBLISH
X-PUBLISHED-TTL:P3D
REFRESH-INTERVAL:P3D
CALSCALE:GREGORIAN
BEGIN:VEVENT
DTSTART:20230428T203000Z
DTEND:20230428T213000Z
X-MICROSOFT-CDO-ALLDAYEVENT:FALSE
SUMMARY:Ribbon Cutting-Glow Tea
DESCRIPTION:Join us at the ribbon cutting for Glow Tea Inc! This is to celebrate their grand opening at the Tacoma Mall. Enjoy a spinning wheel\, limited offers\, and free boba for the first 50 guests!
X-ALT-DESC;FMTTYPE=text/html:Join us at the ribbon cutting for Glow Tea Inc! This is to celebrate their grand opening at the Tacoma Mall. Enjoy a spinning wheel\, limited offers\, and free boba for the first 50 guests!
LOCATION:Glow Tea Tacoma Mall 4502 S Steele St Tacoma\, Wa 98409 LOCATED IN THE MALL NEAR JC PENNY
UID:e.1361.18751
SEQUENCE:3
DTSTAMP:20260424T055145Z
URL:https://business.tacomachamber.org/events/details/ribbon-cutting-glow-tea-18751
END:VEVENT

END:VCALENDAR
