BEGIN:VCALENDAR
VERSION:2.0
PRODID:-//ChamberMaster//Event Calendar 2.0//EN
METHOD:PUBLISH
X-PUBLISHED-TTL:P3D
REFRESH-INTERVAL:P3D
CALSCALE:GREGORIAN
BEGIN:VEVENT
DTSTART:20230601T230000Z
DTEND:20230602T000000Z
X-MICROSOFT-CDO-ALLDAYEVENT:FALSE
SUMMARY:Ribbon Cutting- Go Philly Cheesesteaks & Wings
DESCRIPTION:Join us at the ribbon cutting for Go Philly Cheesesteaks & Wings. This is to celebreate their re-opening!
X-ALT-DESC;FMTTYPE=text/html:Join us at the ribbon cutting for Go Philly Cheesesteaks &amp\; Wings. This is to celebreate their re-opening!&nbsp\;
LOCATION:Go Philly Cheesesteaks & Wings 1524 Tacoma Ave S Tacoma\, WA 98402
UID:e.1361.18788
SEQUENCE:3
DTSTAMP:20260424T042847Z
URL:https://business.tacomachamber.org/events/details/ribbon-cutting-go-philly-cheesesteaks-wings-18788
END:VEVENT

END:VCALENDAR
