BEGIN:VCALENDAR
VERSION:2.0
PRODID:-//ChamberMaster//Event Calendar 2.0//EN
METHOD:PUBLISH
X-PUBLISHED-TTL:P3D
REFRESH-INTERVAL:P3D
CALSCALE:GREGORIAN
BEGIN:VEVENT
DTSTART:20260203T230000Z
DTEND:20260204T000000Z
X-MICROSOFT-CDO-ALLDAYEVENT:FALSE
SUMMARY:Ribbon Cutting-Goldfish Swim School Tacoma
DESCRIPTION:Join us at the ribbon cutting ceremony for Goldfish Swim School Tacoma! This is to celebrate the grand opening of the Tacoma location. Participate in tours of the facility while enjoying light snacks and beverages. Stick around to see afternoon lessons in action!
X-ALT-DESC;FMTTYPE=text/html:<span style="font-family:verdana\;"><span style="font-size:12px\;">Join us at the ribbon cutting ceremony for Goldfish Swim School Tacoma! This is to celebrate the grand opening of the Tacoma location. Participate in tours of the facility while enjoying light snacks and beverages. Stick around to see afternoon lessons in action!</span></span>
LOCATION:Goldfish Swim School Tacoma 5401 6th Ave Suite 427 Tacoma\, WA 98406
UID:e.1361.21949
SEQUENCE:3
DTSTAMP:20260424T133307Z
URL:https://business.tacomachamber.org/events/details/ribbon-cutting-goldfish-swim-school-tacoma-21949
END:VEVENT

END:VCALENDAR
