BEGIN:VCALENDAR
VERSION:2.0
PRODID:-//ChamberMaster//Event Calendar 2.0//EN
METHOD:PUBLISH
X-PUBLISHED-TTL:P3D
REFRESH-INTERVAL:P3D
CALSCALE:GREGORIAN
BEGIN:VEVENT
DTSTART:20230714T224500Z
DTEND:20230714T233000Z
X-MICROSOFT-CDO-ALLDAYEVENT:FALSE
SUMMARY:Ribbon Cutting- Inta Vintage
DESCRIPTION:Join us at the ribbon cutting for Inta Vintage!\n\nThis is to celebrate theIr Grand Opening. Be sure to explore their new 3 floors of retail space while enjoying a mimosa.
X-ALT-DESC;FMTTYPE=text/html:<p>Join us at the ribbon cutting for Inta Vintage!<br />\nThis is to celebrate theIr Grand Opening. Be sure to explore their new 3 floors of retail space while enjoying a mimosa.</p>\n
LOCATION:Inta Vintage 1109 Main St Sumner\, WA 98390
UID:e.1361.18796
SEQUENCE:3
DTSTAMP:20260424T012103Z
URL:https://business.tacomachamber.org/events/details/ribbon-cutting-inta-vintage-18796
END:VEVENT

END:VCALENDAR
