BEGIN:VCALENDAR
VERSION:2.0
PRODID:-//ChamberMaster//Event Calendar 2.0//EN
METHOD:PUBLISH
X-PUBLISHED-TTL:P3D
REFRESH-INTERVAL:P3D
CALSCALE:GREGORIAN
BEGIN:VEVENT
DTSTART:20231004T233000Z
DTEND:20231005T003000Z
X-MICROSOFT-CDO-ALLDAYEVENT:FALSE
SUMMARY:Ribbon Cutting- Lulu's Bakery Shop
DESCRIPTION:Join us at the ribbon cutting for Lulu's Bakery Shop. This is to celebrate their Grand Opening and to welcome them to the neighborhood. Explore their newly renovated bakery! This little garage-turned-bakery was constructed with blood\, sweat\, and tears from her didicated Husband. Lourdes defied the odds when she was faced with working from home with two young children during the Covid-19 Pandemic-which happened to be the year she opened her business. Lulu's Bakery Shop LLC gained the knowledge\, skills\, and abilities it needed to thrive from the Pierce County Business Accelerator Program. Three tough years later\, the Bakery is fully licensed\, and ready to take your order with a smile-as Lourdes always says\, "attitude is everything"!
X-ALT-DESC;FMTTYPE=text/html:Join us at the ribbon cutting for Lulu&#39\;s Bakery Shop. This is to celebrate their Grand Opening and to welcome them to the neighborhood. Explore their newly renovated bakery! This little garage-turned-bakery was constructed with blood\, sweat\, and tears from her didicated Husband. Lourdes defied the odds when she was faced with working from home with two young children during the Covid-19 Pandemic-which happened to be the year she opened her business. Lulu&#39\;s Bakery Shop LLC gained the knowledge\, skills\, and abilities it needed to thrive from the Pierce County Business Accelerator Program. Three tough years later\, the Bakery is fully licensed\, and ready to take your order with a smile-as Lourdes always says\, &quot\;attitude is everything&quot\;!
LOCATION:Lulu's Bakery Shop 1447 S 96th St Tacoma\, WA 98444
UID:e.1361.19037
SEQUENCE:3
DTSTAMP:20260423T203340Z
URL:https://business.tacomachamber.org/events/details/ribbon-cutting-lulu-s-bakery-shop-19037
END:VEVENT

END:VCALENDAR
