BEGIN:VCALENDAR
VERSION:2.0
PRODID:-//ChamberMaster//Event Calendar 2.0//EN
METHOD:PUBLISH
X-PUBLISHED-TTL:P3D
REFRESH-INTERVAL:P3D
CALSCALE:GREGORIAN
BEGIN:VEVENT
DTSTART:20230922T230000Z
DTEND:20230923T010000Z
X-MICROSOFT-CDO-ALLDAYEVENT:FALSE
SUMMARY:Ribbon Cutting-Maidpro Tacoma
DESCRIPTION:Join us at the ribbon cutting for Maidpro Tacoma. This is to celebrate their Grand Opening!
X-ALT-DESC;FMTTYPE=text/html:Join us at the ribbon cutting for Maidpro Tacoma. This is to celebrate their Grand Opening!
LOCATION:Maidpro Tacoma 1614-6 S Mildred St Tacoma\, WA 98465
UID:e.1361.18827
SEQUENCE:3
DTSTAMP:20260423T214910Z
URL:https://business.tacomachamber.org/events/details/ribbon-cutting-maidpro-tacoma-18827
END:VEVENT

END:VCALENDAR
