BEGIN:VCALENDAR
VERSION:2.0
PRODID:-//ChamberMaster//Event Calendar 2.0//EN
METHOD:PUBLISH
X-PUBLISHED-TTL:P3D
REFRESH-INTERVAL:P3D
CALSCALE:GREGORIAN
BEGIN:VEVENT
DTSTART:20240516T193000Z
DTEND:20240516T203000Z
X-MICROSOFT-CDO-ALLDAYEVENT:FALSE
SUMMARY:Ribbon Cutting-Pella Windows & Doors
DESCRIPTION:Join us at the ribbon cutting ceremony for Pella Windows & Doors!\n\nThis is to celebrate their Grand Opening. Enjoy raffles\, catered food\, and beverages during the open house following the cutting.
X-ALT-DESC;FMTTYPE=text/html:Join us at the ribbon cutting ceremony for Pella Windows &amp\; Doors!<br />\nThis is to celebrate their Grand Opening. Enjoy raffles\, catered food\, and beverages during the open house following the cutting.&nbsp\;
LOCATION:Pella Windows & Doors 5225 Tacoma Mall Blvd Suite D-12 Tacoma\, WA 98409
UID:e.1361.19947
SEQUENCE:3
DTSTAMP:20260423T102517Z
URL:https://business.tacomachamber.org/events/details/ribbon-cutting-pella-windows-doors-19947
END:VEVENT

END:VCALENDAR
