BEGIN:VCALENDAR
VERSION:2.0
PRODID:-//ChamberMaster//Event Calendar 2.0//EN
METHOD:PUBLISH
X-PUBLISHED-TTL:P3D
REFRESH-INTERVAL:P3D
CALSCALE:GREGORIAN
BEGIN:VEVENT
DTSTART:20230907T230000Z
DTEND:20230908T010000Z
X-MICROSOFT-CDO-ALLDAYEVENT:FALSE
SUMMARY:Ribbon Cutting-PSR Mechanical
DESCRIPTION:Join us at the Ribbon Cutting for PSR Mechanical! This is to celebrate their Grand Opening. Feel free to come and check out their open house!\n\nPublic Officials In Attendance:\n\nPierce County Councilmember Marty Campbell\n\nCity of Tacoma Councilmember Sarah Rumbaugh
X-ALT-DESC;FMTTYPE=text/html:Join us at the Ribbon Cutting for PSR Mechanical! This is to celebrate their Grand Opening. Feel free to come and check out their open house!<br />\n<span style="font-size:14px\;"><strong>Public Officials In Attendance:</strong></span><br />\nPierce County Councilmember Marty Campbell<br />\nCity of Tacoma Councilmember Sarah Rumbaugh&nbsp\;
LOCATION:PSR Mechanical 1011 East E Street Tacoma\, WA 98421
UID:e.1361.18818
SEQUENCE:3
DTSTAMP:20260423T214354Z
URL:https://business.tacomachamber.org/events/details/ribbon-cutting-psr-mechanical-18818
END:VEVENT

END:VCALENDAR
