BEGIN:VCALENDAR
VERSION:2.0
PRODID:-//ChamberMaster//Event Calendar 2.0//EN
METHOD:PUBLISH
X-PUBLISHED-TTL:P3D
REFRESH-INTERVAL:P3D
CALSCALE:GREGORIAN
BEGIN:VEVENT
DTSTART:20230315T000000Z
DTEND:20230315T030000Z
X-MICROSOFT-CDO-ALLDAYEVENT:FALSE
SUMMARY:Ribbon Cutting- PURE Infusion Suites
DESCRIPTION:Join us at the ribbon cutting for PURE Infusions Suites! This is to celebrate their new clinic. Come check out their new clinic during the open house and enjoy refreshments.
X-ALT-DESC;FMTTYPE=text/html:Join us at the ribbon cutting for PURE Infusions Suites! This is to celebrate their new clinic. Come check out their new clinic during the open house and enjoy refreshments.
LOCATION:PURE Infusion Suites 1818 S Union Ave Ste 2B Tacoma\, WA 98405
UID:e.1361.18743
SEQUENCE:3
DTSTAMP:20260424T072800Z
URL:https://business.tacomachamber.org/events/details/ribbon-cutting-pure-infusion-suites-18743
END:VEVENT

END:VCALENDAR
