BEGIN:VCALENDAR
VERSION:2.0
PRODID:-//ChamberMaster//Event Calendar 2.0//EN
METHOD:PUBLISH
X-PUBLISHED-TTL:P3D
REFRESH-INTERVAL:P3D
CALSCALE:GREGORIAN
BEGIN:VEVENT
DTSTART:20260504T203000Z
DTEND:20260504T213000Z
X-MICROSOFT-CDO-ALLDAYEVENT:FALSE
SUMMARY:Ribbon Cutting-Sunrise Play Cafe
DESCRIPTION:Join us at the ribbon cutting ceremony for Sunrise Play Cafe! This is to celebrate the grand opening of the premium play space for children with a genuine cafe experience for parents\, caretakers\, family and local community members. Enjoy tours of the building and even meet & greet with Princesses while you're there.
X-ALT-DESC;FMTTYPE=text/html:<span style="font-size:14px\;"><span style="font-family:verdana\;">Join us at the ribbon cutting ceremony for Sunrise Play Cafe! This is to celebrate the grand opening of the premium play space for children with a genuine cafe experience for parents\, caretakers\, family and local community members. Enjoy tours of the building and even meet &amp\; greet with Princesses while you&#39\;re there.&nbsp\;</span></span>
LOCATION:Sunrise Play Cafe 204 Saint Helens Ave\, Tacoma\, WA 98402
UID:e.1361.22077
SEQUENCE:3
DTSTAMP:20260424T084818Z
URL:https://business.tacomachamber.org/events/details/ribbon-cutting-sunrise-play-cafe-22077
END:VEVENT

END:VCALENDAR
