BEGIN:VCALENDAR
VERSION:2.0
PRODID:-//ChamberMaster//Event Calendar 2.0//EN
METHOD:PUBLISH
X-PUBLISHED-TTL:P3D
REFRESH-INTERVAL:P3D
CALSCALE:GREGORIAN
BEGIN:VEVENT
DTSTART:20230323T220000Z
DTEND:20230324T010000Z
X-MICROSOFT-CDO-ALLDAYEVENT:FALSE
SUMMARY:Ribbon Cutting-The Village Senior Living
DESCRIPTION:Join us at the ribbon cutting for The Village Senior Living! This is to celebrate their new renovations. Enjoy music\, food\, and tours of the new expansion.
X-ALT-DESC;FMTTYPE=text/html:Join us at the ribbon cutting for The Village Senior Living! This is to celebrate their new renovations. Enjoy music\, food\, and tours of the new expansion.&nbsp\;
LOCATION:The Village Senior Living 4707 S Orchard Tacoma\, WA 98405
UID:e.1361.18744
SEQUENCE:3
DTSTAMP:20260424T073104Z
URL:https://business.tacomachamber.org/events/details/ribbon-cutting-the-village-senior-living-18744
END:VEVENT

END:VCALENDAR
