BEGIN:VCALENDAR
VERSION:2.0
PRODID:-//ChamberMaster//Event Calendar 2.0//EN
METHOD:PUBLISH
X-PUBLISHED-TTL:P3D
REFRESH-INTERVAL:P3D
CALSCALE:GREGORIAN
BEGIN:VEVENT
DTSTART:20230224T000000Z
DTEND:20230224T010000Z
X-MICROSOFT-CDO-ALLDAYEVENT:FALSE
SUMMARY:Ribbon Cutting- Therapeutic Associates Inc.
DESCRIPTION:Join us at the ribbon cutting for Therapeutic Associates Inc.! This is to celebrate their new clinic location.
X-ALT-DESC;FMTTYPE=text/html:Join us at the ribbon cutting for Therapeutic Associates Inc.! This is to celebrate their new clinic location.&nbsp\;
LOCATION:Therapeutic Associates Inc. 10011 Bridgeport Way SW Unit 700 Lakewood\, WA 98499
UID:e.1361.18732
SEQUENCE:3
DTSTAMP:20260424T091419Z
URL:https://business.tacomachamber.org/events/details/ribbon-cutting-therapeutic-associates-inc-18732
END:VEVENT

END:VCALENDAR
