BEGIN:VCALENDAR
VERSION:2.0
PRODID:-//ChamberMaster//Event Calendar 2.0//EN
METHOD:PUBLISH
X-PUBLISHED-TTL:P3D
REFRESH-INTERVAL:P3D
CALSCALE:GREGORIAN
BEGIN:VEVENT
DTSTART:20231030T220000Z
DTEND:20231031T010000Z
X-MICROSOFT-CDO-ALLDAYEVENT:FALSE
SUMMARY:Ribbon Cutting-Trillium
DESCRIPTION:Join us at the ribbon cutting for Trillium. This is to celebrate their 40th anniversary! Stick around for an open house\, where you can enjoy a raffle\, community connections\, and a celebration.
X-ALT-DESC;FMTTYPE=text/html:Join us at the ribbon cutting for Trillium. This is to celebrate their 40th anniversary! Stick around for an open house\, where you can enjoy a raffle\, community connections\, and a celebration.
LOCATION:Trillium 400 S Meridian #1B Puyallup\, WA 98371
UID:e.1361.18831
SEQUENCE:3
DTSTAMP:20260423T220153Z
URL:https://business.tacomachamber.org/events/details/ribbon-cutting-trillium-18831
END:VEVENT

END:VCALENDAR
