BEGIN:VCALENDAR
VERSION:2.0
PRODID:-//ChamberMaster//Event Calendar 2.0//EN
METHOD:PUBLISH
X-PUBLISHED-TTL:P3D
REFRESH-INTERVAL:P3D
CALSCALE:GREGORIAN
BEGIN:VEVENT
DTSTART:20230614T150000Z
DTEND:20230614T163000Z
X-MICROSOFT-CDO-ALLDAYEVENT:FALSE
SUMMARY:Washington in the Making 2040 Town Hall
DESCRIPTION:Join us for an interactive conversation about the future of Washington's economy.  Representatives from the Association of Washington Business and the Washington Roundtable will lead a discussion with attendees about your views of the current economy and your thoughts about the future.\n\n\n\nThe Association of Washington Business Institute and the Washington Roundtable are embarking on an initiative to engage Washingtonians in shaping a vision for the future of our state's economy. The goal is to engage businesses and residents around the State to contribute to the development of a compelling vision for the future of Washington's economy. This vision\, and the goals and desired outcomes that are developed\, will be used to actively shape policy and action to ensure Washington's growth is strategic and supports economic prosperity and quality of life in every county.\n\n\n\nWe invite you to join in our town hall meeting and share your voice and help support the economic future of your community!  Our discussion will include questions like: \n\n	What are the biggest issues facing your organization today?\n	What does your community need to solve to be thriving in 2040?\n	What trends do you think will affect you and the state of Washington over the next 15 years?
X-ALT-DESC;FMTTYPE=text/html:<span style="font-size:16px\;">Join us for an interactive conversation&nbsp\;about the future of Washington&#39\;s economy.&nbsp\; Representatives from the Association of Washington Business and the Washington Roundtable will&nbsp\;lead a discussion with attendees about your views of the current economy and your thoughts&nbsp\;about the future.<br />\n<br />\nThe Association of Washington Business Institute and the Washington Roundtable are embarking on an initiative to engage Washingtonians in shaping a vision for the future of our state&#39\;s economy. The goal is to engage businesses and residents around the State to contribute to the development of a compelling vision for the future of Washington&rsquo\;s economy. This vision\, and the goals and desired outcomes that are developed\, will be used to actively shape policy and action to ensure Washington&rsquo\;s growth is strategic and supports economic prosperity and quality of life in every county.<br />\n<br />\nWe invite you to join in our town hall meeting and share your voice and help support the economic&nbsp\;future of your community!&nbsp\; Our discussion will include questions like: </span>\n<ul>\n	<li><span style="font-size:16px\;">What are the biggest issues facing your organization today?</span></li>\n	<li><span style="font-size:16px\;">What does your community need to solve to be thriving in 2040?</span></li>\n	<li><span style="font-size:16px\;">What trends do you think will affect you and the state of Washington over the next 15 years?</span></li>\n</ul>\n
LOCATION:Court House Square 1102 A St. Tacoma\, WA 98402
UID:e.1361.18792
SEQUENCE:3
DTSTAMP:20260424T042744Z
URL:https://business.tacomachamber.org/events/details/washington-in-the-making-2040-town-hall-18792
END:VEVENT

END:VCALENDAR
